BEGIN:VCALENDAR
VERSION:2.0
PRODID:-//Plone.org//NONSGML plone.app.event//EN
X-WR-TIMEZONE:Europe/Madrid
BEGIN:VEVENT
SUMMARY:Ball a l'envelat
DTSTART;TZID=Europe/Madrid;VALUE=DATE-TIME:20150313T183000
DTEND;TZID=Europe/Madrid;VALUE=DATE-TIME:20150313T193000
DTSTAMP;VALUE=DATE-TIME:20260424T143453Z
UID:be53eec642cac9f72983485513355482
CREATED;VALUE=DATE-TIME:20150313T000000Z
LOCATION:Envelat de Vil·la Flora
ORGANIZER:Associació de Jubilats i Pensionistes de Canet de Mar
URL:https://www.canetdemar.cat/document.php?id=12920
END:VEVENT
END:VCALENDAR