BEGIN:VCALENDAR
VERSION:2.0
PRODID:-//Plone.org//NONSGML plone.app.event//EN
X-WR-TIMEZONE:Europe/Madrid
BEGIN:VEVENT
SUMMARY:Ruta pescadors i navegants
DTSTART;TZID=Europe/Madrid;VALUE=DATE-TIME:20150308T110000
DTEND;TZID=Europe/Madrid;VALUE=DATE-TIME:20150308T120000
DTSTAMP;VALUE=DATE-TIME:20260424T092622Z
UID:4267ff1a29a95eea79afd5732db27e72
CREATED;VALUE=DATE-TIME:20150308T000000Z
LOCATION:Casa museu Lluís Domènech i Montaner - xamfrà rieres Buscarons i Gavarra
ORGANIZER:Casa museu Lluís Domènech i Montaner
URL:https://www.canetdemar.cat/document.php?id=12908
END:VEVENT
END:VCALENDAR