BEGIN:VCALENDAR
VERSION:2.0
PRODID:-//Plone.org//NONSGML plone.app.event//EN
X-WR-TIMEZONE:Europe/Madrid
BEGIN:VEVENT
SUMMARY:Ball a l'esplai
DTSTART;TZID=Europe/Madrid;VALUE=DATE-TIME:20150308T180000
DTEND;TZID=Europe/Madrid;VALUE=DATE-TIME:20150308T190000
DTSTAMP;VALUE=DATE-TIME:20260422T222833Z
UID:55b8085b5512115686889b593a5a6b11
CREATED;VALUE=DATE-TIME:20150308T000000Z
LOCATION:GGespaiCaixa - Canet - Vall 24
ORGANIZER:GGespaiCaixa - Canet
URL:https://www.canetdemar.cat/document.php?id=12881
END:VEVENT
END:VCALENDAR