BEGIN:VCALENDAR
VERSION:2.0
PRODID:-//Plone.org//NONSGML plone.app.event//EN
X-WR-TIMEZONE:Europe/Madrid
BEGIN:VEVENT
SUMMARY:Taller de teatre, a càrrec de Maribel Garcia
DTSTART;TZID=Europe/Madrid;VALUE=DATE-TIME:20150304T110000
DTEND;TZID=Europe/Madrid;VALUE=DATE-TIME:20150304T120000
DTSTAMP;VALUE=DATE-TIME:20260423T133532Z
UID:89dd4783f1898c3a276bbd73b786adfc
CREATED;VALUE=DATE-TIME:20150304T000000Z
CATEGORIES:Cursos
LOCATION:Seu de Sàlvia, Plaça Manén
ORGANIZER:Sàlvia
DESCRIPTION:1er dia explicació del taller
URL:https://www.canetdemar.cat/document.php?id=12846
END:VEVENT
END:VCALENDAR