BEGIN:VCALENDAR
VERSION:2.0
PRODID:-//Plone.org//NONSGML plone.app.event//EN
X-WR-TIMEZONE:Europe/Madrid
BEGIN:VEVENT
SUMMARY:Gala Lírica: homenatge a les dones de Canet: Anna Segura, Elvira Maynat, Associació de dones Sàlvia
DTSTART;TZID=Europe/Madrid;VALUE=DATE-TIME:20150308T180000
DTEND;TZID=Europe/Madrid;VALUE=DATE-TIME:20150308T190000
DTSTAMP;VALUE=DATE-TIME:20260420T152055Z
UID:678783638f5bfa4d54e17b3f1294c5bf
CREATED;VALUE=DATE-TIME:20150308T000000Z
LOCATION:Envelat de Vil·la Flora
ORGANIZER:Associació Veïns Casc Antic
COMMENT:Preu: anticipada, 10 euros. A taquilla, 12 euros
URL:https://www.canetdemar.cat/document.php?id=12821
END:VEVENT
END:VCALENDAR