BEGIN:VCALENDAR
VERSION:2.0
PRODID:-//Plone.org//NONSGML plone.app.event//EN
X-WR-TIMEZONE:Europe/Madrid
BEGIN:VEVENT
SUMMARY:Jornada portes obertes: Ins. Lluís Domènech i Montaner
DTSTART;TZID=Europe/Madrid;VALUE=DATE-TIME:20150308T110000
DTEND;TZID=Europe/Madrid;VALUE=DATE-TIME:20150308T120000
DTSTAMP;VALUE=DATE-TIME:20260424T170335Z
UID:44c2dab42e7d2cfe2adf64336be6b248
CREATED;VALUE=DATE-TIME:20150308T000000Z
LOCATION:Institut Lluís Domènech i Montaner - C/ F. Cambó, 2
DESCRIPTION:Preinscripció curs 215-2016
URL:https://www.canetdemar.cat/document.php?id=12817
END:VEVENT
END:VCALENDAR