BEGIN:VCALENDAR
VERSION:2.0
PRODID:-//Plone.org//NONSGML plone.app.event//EN
X-WR-TIMEZONE:Europe/Madrid
BEGIN:VEVENT
SUMMARY:Jornada portes obertes: Secció Institut de Canet
DTSTART;TZID=Europe/Madrid;VALUE=DATE-TIME:20150307T110000
DTEND;TZID=Europe/Madrid;VALUE=DATE-TIME:20150307T120000
DTSTAMP;VALUE=DATE-TIME:20260424T011034Z
UID:f80d5ee8ad9279af9cc5a9e1ebb22429
CREATED;VALUE=DATE-TIME:20150307T000000Z
LOCATION:Secció d'Institut de Canet - C/ Jaume Romagosa i Duran ,4
DESCRIPTION:Preinscripció 2015-2016
URL:https://www.canetdemar.cat/document.php?id=12816
END:VEVENT
END:VCALENDAR