BEGIN:VCALENDAR
VERSION:2.0
PRODID:-//Plone.org//NONSGML plone.app.event//EN
X-WR-TIMEZONE:Europe/Madrid
BEGIN:VEVENT
SUMMARY:Signatura del conveni Canet sense fils
DTSTART;TZID=Europe/Madrid;VALUE=DATE-TIME:20041223T190000
DTEND;TZID=Europe/Madrid;VALUE=DATE-TIME:20041223T200000
DTSTAMP;VALUE=DATE-TIME:20260424T011048Z
UID:ec6db0ea99cc97904000dc9002c399ef
CREATED;VALUE=DATE-TIME:20041223T000000Z
URL:https://www.canetdemar.cat/document.php?id=1281
END:VEVENT
END:VCALENDAR