BEGIN:VCALENDAR
VERSION:2.0
PRODID:-//Plone.org//NONSGML plone.app.event//EN
X-WR-TIMEZONE:Europe/Madrid
BEGIN:VEVENT
SUMMARY:Fira Mercat Modernista
DTSTART;TZID=Europe/Madrid;VALUE=DATE-TIME:20150920T000000
DTEND;TZID=Europe/Madrid;VALUE=DATE-TIME:20150920T010000
DTSTAMP;VALUE=DATE-TIME:20260422T034604Z
UID:d839fccad38f9a1832ace11da71718c7
CREATED;VALUE=DATE-TIME:20150920T000000Z
COMMENT:Durada: 18, 19 i 20 de setembre de 2015
URL:https://www.canetdemar.cat/document.php?id=12778
END:VEVENT
END:VCALENDAR