BEGIN:VCALENDAR
VERSION:2.0
PRODID:-//Plone.org//NONSGML plone.app.event//EN
X-WR-TIMEZONE:Europe/Madrid
BEGIN:VEVENT
SUMMARY:Fira Mercat Modernista
DTSTART;TZID=Europe/Madrid;VALUE=DATE-TIME:20150919T000000
DTEND;TZID=Europe/Madrid;VALUE=DATE-TIME:20150919T010000
DTSTAMP;VALUE=DATE-TIME:20260424T222555Z
UID:bd6c63c8ebf7d0966e908f720a1d7627
CREATED;VALUE=DATE-TIME:20150919T000000Z
COMMENT:Durada: 18, 19 i 20 de setembre de 2015
URL:https://www.canetdemar.cat/document.php?id=12777
END:VEVENT
END:VCALENDAR