BEGIN:VCALENDAR
VERSION:2.0
PRODID:-//Plone.org//NONSGML plone.app.event//EN
X-WR-TIMEZONE:Europe/Madrid
BEGIN:VEVENT
SUMMARY:Fira Mercat Modernista
DTSTART;TZID=Europe/Madrid;VALUE=DATE-TIME:20150918T000000
DTEND;TZID=Europe/Madrid;VALUE=DATE-TIME:20150918T010000
DTSTAMP;VALUE=DATE-TIME:20260423T104002Z
UID:03fda800556693c9e7b02c434c802baa
CREATED;VALUE=DATE-TIME:20150918T000000Z
COMMENT:Durada: 18, 19 i 20 de setembre de 2015
URL:https://www.canetdemar.cat/document.php?id=12776
END:VEVENT
END:VCALENDAR