BEGIN:VCALENDAR
VERSION:2.0
PRODID:-//Plone.org//NONSGML plone.app.event//EN
X-WR-TIMEZONE:Europe/Madrid
BEGIN:VEVENT
SUMMARY:Fira d'artesania
DTSTART;TZID=Europe/Madrid;VALUE=DATE-TIME:20150802T100000
DTEND;TZID=Europe/Madrid;VALUE=DATE-TIME:20150802T110000
DTSTAMP;VALUE=DATE-TIME:20260424T101448Z
UID:0eba7ab6dda48d434c0abb4983a23d38
CREATED;VALUE=DATE-TIME:20150802T000000Z
LOCATION:riera Sant Domènec
ORGANIZER:Àrea de Promoció Econòmica
COMMENT:Durada: 1 i 2 d'agost de 2015 de 10.00 a 21.00 hores
URL:https://www.canetdemar.cat/document.php?id=12775
END:VEVENT
END:VCALENDAR