BEGIN:VCALENDAR
VERSION:2.0
PRODID:-//Plone.org//NONSGML plone.app.event//EN
X-WR-TIMEZONE:Europe/Madrid
BEGIN:VEVENT
SUMMARY:Fira d'artesania
DTSTART;TZID=Europe/Madrid;VALUE=DATE-TIME:20150704T100000
DTEND;TZID=Europe/Madrid;VALUE=DATE-TIME:20150704T110000
DTSTAMP;VALUE=DATE-TIME:20260424T070412Z
UID:8cc7b09b12f9c80e1aa853061a8029d4
CREATED;VALUE=DATE-TIME:20150704T000000Z
LOCATION:riera Sant Domènec
ORGANIZER:Àrea de Promoció Econòmica
COMMENT:Durada: 4 i 5 de juliol de 2015 de 10.00 a 21.00 hores
URL:https://www.canetdemar.cat/document.php?id=12772
END:VEVENT
END:VCALENDAR