BEGIN:VCALENDAR
VERSION:2.0
PRODID:-//Plone.org//NONSGML plone.app.event//EN
X-WR-TIMEZONE:Europe/Madrid
BEGIN:VEVENT
SUMMARY:Fira d'artesania
DTSTART;TZID=Europe/Madrid;VALUE=DATE-TIME:20150307T100000
DTEND;TZID=Europe/Madrid;VALUE=DATE-TIME:20150307T110000
DTSTAMP;VALUE=DATE-TIME:20260424T083919Z
UID:3d299fd074975ab59ab479995bd751ed
CREATED;VALUE=DATE-TIME:20150307T000000Z
LOCATION:riera Sant Domènec
ORGANIZER:Àrea de Promoció Econòmica
COMMENT:Durada: 7 i 8 de març de 2015 de 10.00 a 21.00 hores
URL:https://www.canetdemar.cat/document.php?id=12762
END:VEVENT
END:VCALENDAR