BEGIN:VCALENDAR
VERSION:2.0
PRODID:-//Plone.org//NONSGML plone.app.event//EN
X-WR-TIMEZONE:Europe/Madrid
BEGIN:VEVENT
SUMMARY:Recital en recordança de Jaume Dotras
DTSTART;TZID=Europe/Madrid;VALUE=DATE-TIME:20050109T181500
DTEND;TZID=Europe/Madrid;VALUE=DATE-TIME:20050109T191500
DTSTAMP;VALUE=DATE-TIME:20260425T040621Z
UID:6cbe2c90ff189c53f7a1f0bb20f0149d
CREATED;VALUE=DATE-TIME:20050109T000000Z
URL:https://www.canetdemar.cat/document.php?id=1276
END:VEVENT
END:VCALENDAR