BEGIN:VCALENDAR
VERSION:2.0
PRODID:-//Plone.org//NONSGML plone.app.event//EN
X-WR-TIMEZONE:Europe/Madrid
BEGIN:VEVENT
SUMMARY:Cavalcada de Reis 2005
DTSTART;TZID=Europe/Madrid;VALUE=DATE-TIME:20050105T180000
DTEND;TZID=Europe/Madrid;VALUE=DATE-TIME:20050105T190000
DTSTAMP;VALUE=DATE-TIME:20260423T053226Z
UID:5cebf469bb465114a6c4c761d53bff2b
CREATED;VALUE=DATE-TIME:20050105T000000Z
URL:https://www.canetdemar.cat/document.php?id=1275
END:VEVENT
END:VCALENDAR