BEGIN:VCALENDAR
VERSION:2.0
PRODID:-//Plone.org//NONSGML plone.app.event//EN
X-WR-TIMEZONE:Europe/Madrid
BEGIN:VEVENT
SUMMARY:Exposició: Adrià Gual
DTSTART;TZID=Europe/Madrid;VALUE=DATE-TIME:20150407T000000
DTEND;TZID=Europe/Madrid;VALUE=DATE-TIME:20150407T010000
DTSTAMP;VALUE=DATE-TIME:20260424T012131Z
UID:048aa3b9d8b43873d119731c09445037
CREATED;VALUE=DATE-TIME:20150407T000000Z
CATEGORIES:Exposició
LOCATION:Biblioteca
COMMENT:Durada: del 7 al 21 d'abril de 2015
URL:https://www.canetdemar.cat/document.php?id=12739
END:VEVENT
END:VCALENDAR