BEGIN:VCALENDAR
VERSION:2.0
PRODID:-//Plone.org//NONSGML plone.app.event//EN
X-WR-TIMEZONE:Europe/Madrid
BEGIN:VEVENT
SUMMARY:Dijous gras. Contes eròtics i/o escatològics
DTSTART;TZID=Europe/Madrid;VALUE=DATE-TIME:20150212T203000
DTEND;TZID=Europe/Madrid;VALUE=DATE-TIME:20150212T213000
DTSTAMP;VALUE=DATE-TIME:20260423T054228Z
UID:72cf50a140056c15f9b72ff34568b524
CREATED;VALUE=DATE-TIME:20150212T000000Z
LOCATION:Envelat de Vil·la Flora
ORGANIZER:Comissió de Carnaval, Sàlvia, Gea XXI, Montoya, ACPO, Moixons Llepafils, Tastacontes i De debò, de debò teatre
URL:https://www.canetdemar.cat/document.php?id=12721
END:VEVENT
END:VCALENDAR