BEGIN:VCALENDAR
VERSION:2.0
PRODID:-//Plone.org//NONSGML plone.app.event//EN
X-WR-TIMEZONE:Europe/Madrid
BEGIN:VEVENT
SUMMARY:Els Pastorets
DTSTART;TZID=Europe/Madrid;VALUE=DATE-TIME:20050102T181500
DTEND;TZID=Europe/Madrid;VALUE=DATE-TIME:20050102T191500
DTSTAMP;VALUE=DATE-TIME:20260423T083110Z
UID:146a2af7ce712968afd28883941f2e7d
CREATED;VALUE=DATE-TIME:20050102T000000Z
URL:https://www.canetdemar.cat/document.php?id=1272
END:VEVENT
END:VCALENDAR