BEGIN:VCALENDAR
VERSION:2.0
PRODID:-//Plone.org//NONSGML plone.app.event//EN
X-WR-TIMEZONE:Europe/Madrid
BEGIN:VEVENT
SUMMARY:Visita guiada al Castell de Santa Florentina
DTSTART;TZID=Europe/Madrid;VALUE=DATE-TIME:20150131T103000
DTEND;TZID=Europe/Madrid;VALUE=DATE-TIME:20150131T113000
DTSTAMP;VALUE=DATE-TIME:20260423T202747Z
UID:3f37177d8443c4f9a85455a4822176cf
CREATED;VALUE=DATE-TIME:20150131T000000Z
LOCATION:Casa museu
ORGANIZER:Casa museu Lluís Domènech i Montaner
COMMENT:Preu: 9 euros
URL:https://www.canetdemar.cat/document.php?id=12709
END:VEVENT
END:VCALENDAR