BEGIN:VCALENDAR
VERSION:2.0
PRODID:-//Plone.org//NONSGML plone.app.event//EN
X-WR-TIMEZONE:Europe/Madrid
BEGIN:VEVENT
SUMMARY:Ruta navegants i pescadors
DTSTART;TZID=Europe/Madrid;VALUE=DATE-TIME:20150208T110000
DTEND;TZID=Europe/Madrid;VALUE=DATE-TIME:20150208T120000
DTSTAMP;VALUE=DATE-TIME:20260422T125941Z
UID:66adc2e1ec6a961ffe2e27f4dd285caa
CREATED;VALUE=DATE-TIME:20150208T000000Z
LOCATION:Casa museu Lluís Domènech i Montaner
ORGANIZER:Casa museu Lluís Domènech i Montaner
COMMENT:Preu: 4 euros
URL:https://www.canetdemar.cat/document.php?id=12708
END:VEVENT
END:VCALENDAR