BEGIN:VCALENDAR
VERSION:2.0
PRODID:-//Plone.org//NONSGML plone.app.event//EN
X-WR-TIMEZONE:Europe/Madrid
BEGIN:VEVENT
SUMMARY:Audició de Combos
DTSTART;TZID=Europe/Madrid;VALUE=DATE-TIME:20150227T210000
DTEND;TZID=Europe/Madrid;VALUE=DATE-TIME:20150227T220000
DTSTAMP;VALUE=DATE-TIME:20260423T050837Z
UID:dc2276c4cef649b69b96ce472afc3673
CREATED;VALUE=DATE-TIME:20150227T000000Z
LOCATION:Auditori Jaume Dotras i Serrabella de l' Escola de Música
ORGANIZER:Escola de Música
URL:https://www.canetdemar.cat/document.php?id=12704
END:VEVENT
END:VCALENDAR