BEGIN:VCALENDAR
VERSION:2.0
PRODID:-//Plone.org//NONSGML plone.app.event//EN
X-WR-TIMEZONE:Europe/Madrid
BEGIN:VEVENT
SUMMARY:Mercat d'intercanvi i 2a mà
DTSTART;TZID=Europe/Madrid;VALUE=DATE-TIME:20150308T100000
DTEND;TZID=Europe/Madrid;VALUE=DATE-TIME:20150308T110000
DTSTAMP;VALUE=DATE-TIME:20260425T193815Z
UID:0e99560921d4299383ad14ebd691de27
CREATED;VALUE=DATE-TIME:20150308T000000Z
LOCATION:plaça Universitat
ORGANIZER:Àrea Medi Ambient
COMMENT:Durada: de 10.00 a 14.00 hores
URL:https://www.canetdemar.cat/document.php?id=12682
END:VEVENT
END:VCALENDAR