BEGIN:VCALENDAR
VERSION:2.0
PRODID:-//Plone.org//NONSGML plone.app.event//EN
X-WR-TIMEZONE:Europe/Madrid
BEGIN:VEVENT
SUMMARY:Parc infantil de Nadal
DTSTART;TZID=Europe/Madrid;VALUE=DATE-TIME:20041230T110000
DTEND;TZID=Europe/Madrid;VALUE=DATE-TIME:20041230T120000
DTSTAMP;VALUE=DATE-TIME:20260422T164213Z
UID:bff797d81b4bfb4429f35571c3e9a6a4
CREATED;VALUE=DATE-TIME:20041230T000000Z
URL:https://www.canetdemar.cat/document.php?id=1268
END:VEVENT
END:VCALENDAR