BEGIN:VCALENDAR
VERSION:2.0
PRODID:-//Plone.org//NONSGML plone.app.event//EN
X-WR-TIMEZONE:Europe/Madrid
BEGIN:VEVENT
SUMMARY:XLI Concurs de teatre Pedracastell: Agnès de Dèu
DTSTART;TZID=Europe/Madrid;VALUE=DATE-TIME:20150426T181500
DTEND;TZID=Europe/Madrid;VALUE=DATE-TIME:20150426T191500
DTSTAMP;VALUE=DATE-TIME:20260424T182953Z
UID:48b71d1a6c98b04650ac0c89b86d2ae2
CREATED;VALUE=DATE-TIME:20150426T000000Z
CATEGORIES:Teatre
LOCATION:Centre Parroquial (Eusebi Golart, 16)
ORGANIZER:Centre Parroquial
COMMENT:Preu: 6 euros
URL:https://www.canetdemar.cat/document.php?id=12677
END:VEVENT
END:VCALENDAR