BEGIN:VCALENDAR
VERSION:2.0
PRODID:-//Plone.org//NONSGML plone.app.event//EN
X-WR-TIMEZONE:Europe/Madrid
BEGIN:VEVENT
SUMMARY:Missa del Gall
DTSTART;TZID=Europe/Madrid;VALUE=DATE-TIME:20041224T000000
DTEND;TZID=Europe/Madrid;VALUE=DATE-TIME:20041224T010000
DTSTAMP;VALUE=DATE-TIME:20260424T021727Z
UID:1dca692a49adadd34d87be7a18022680
CREATED;VALUE=DATE-TIME:20041224T000000Z
URL:https://www.canetdemar.cat/document.php?id=1267
END:VEVENT
END:VCALENDAR