BEGIN:VCALENDAR
VERSION:2.0
PRODID:-//Plone.org//NONSGML plone.app.event//EN
X-WR-TIMEZONE:Europe/Madrid
BEGIN:VEVENT
SUMMARY:XLI Concurs de teatre Premi Pedracastell: Panorama des del Pont
DTSTART;TZID=Europe/Madrid;VALUE=DATE-TIME:20150201T181500
DTEND;TZID=Europe/Madrid;VALUE=DATE-TIME:20150201T191500
DTSTAMP;VALUE=DATE-TIME:20260423T132828Z
UID:0dd4aa2c971246075ebf39ea8f97b0f8
CREATED;VALUE=DATE-TIME:20150201T000000Z
CATEGORIES:Teatre
LOCATION:Teatre del Centre Parroquial
ORGANIZER:Centre Parroquial
COMMENT:Preu: 6 &euro;
URL:https://www.canetdemar.cat/document.php?id=12669
END:VEVENT
END:VCALENDAR