BEGIN:VCALENDAR
VERSION:2.0
PRODID:-//Plone.org//NONSGML plone.app.event//EN
X-WR-TIMEZONE:Europe/Madrid
BEGIN:VEVENT
SUMMARY:Presentació del llibre: Tots els dubtes del lingüista Rudolf Ortega
DTSTART;TZID=Europe/Madrid;VALUE=DATE-TIME:20150220T190000
DTEND;TZID=Europe/Madrid;VALUE=DATE-TIME:20150220T200000
DTSTAMP;VALUE=DATE-TIME:20260423T035036Z
UID:fe5a24b9f1a0fbf6a2ce893384f97cac
CREATED;VALUE=DATE-TIME:20150220T000000Z
CATEGORIES:Literatura
LOCATION:Sala Cultural Ramon de Capmany
ORGANIZER:Plataforma per la Llengua Canet de Mar - l´ONG del català
COMMENT:Preu: Gratuït
DESCRIPTION:Una gramàtica del català a l´abast
URL:https://www.canetdemar.cat/document.php?id=12668
END:VEVENT
END:VCALENDAR