BEGIN:VCALENDAR
VERSION:2.0
PRODID:-//Plone.org//NONSGML plone.app.event//EN
X-WR-TIMEZONE:Europe/Madrid
BEGIN:VEVENT
SUMMARY:Presentació del llibre: 300. La història continua del periodista Antoni Tortajada
DTSTART;TZID=Europe/Madrid;VALUE=DATE-TIME:20150227T193000
DTEND;TZID=Europe/Madrid;VALUE=DATE-TIME:20150227T203000
DTSTAMP;VALUE=DATE-TIME:20260426T032709Z
UID:7b23da766d767058a8f9c12b94ee78cf
CREATED;VALUE=DATE-TIME:20150227T000000Z
CATEGORIES:Literatura
LOCATION:Sala Cultural Ramon de Capmany
ORGANIZER:Plataforma per la Llengua Canet de Mar - l´ONG del català
COMMENT:Preu: Gratuït
URL:https://www.canetdemar.cat/document.php?id=12642
END:VEVENT
END:VCALENDAR