BEGIN:VCALENDAR
VERSION:2.0
PRODID:-//Plone.org//NONSGML plone.app.event//EN
X-WR-TIMEZONE:Europe/Madrid
BEGIN:VEVENT
SUMMARY:Presentació del taller: Espai Dona
DTSTART;TZID=Europe/Madrid;VALUE=DATE-TIME:20150116T180000
DTEND;TZID=Europe/Madrid;VALUE=DATE-TIME:20150116T190000
DTSTAMP;VALUE=DATE-TIME:20260422T203602Z
UID:996f81305e1eeeab0e7886b8296a60f8
CREATED;VALUE=DATE-TIME:20150116T000000Z
CATEGORIES:Cursos
LOCATION:Seu de Sàlvia, Plaça Manén
ORGANIZER:Sàlvia
COMMENT:Preu: gratuït
URL:https://www.canetdemar.cat/document.php?id=12618
END:VEVENT
END:VCALENDAR