BEGIN:VCALENDAR
VERSION:2.0
PRODID:-//Plone.org//NONSGML plone.app.event//EN
X-WR-TIMEZONE:Europe/Madrid
BEGIN:VEVENT
SUMMARY:Diumenge de ball
DTSTART;TZID=Europe/Madrid;VALUE=DATE-TIME:20150118T190000
DTEND;TZID=Europe/Madrid;VALUE=DATE-TIME:20150118T200000
DTSTAMP;VALUE=DATE-TIME:20260423T235613Z
UID:823df1ed2e94d65c948ed7d093846897
CREATED;VALUE=DATE-TIME:20150118T000000Z
LOCATION:Envelat de Vil·la Flora
ORGANIZER:Amics del ball
URL:https://www.canetdemar.cat/document.php?id=12614
END:VEVENT
END:VCALENDAR