BEGIN:VCALENDAR
VERSION:2.0
PRODID:-//Plone.org//NONSGML plone.app.event//EN
X-WR-TIMEZONE:Europe/Madrid
BEGIN:VEVENT
SUMMARY:Ruta guiada: Navegants i pescadors
DTSTART;TZID=Europe/Madrid;VALUE=DATE-TIME:20150104T110000
DTEND;TZID=Europe/Madrid;VALUE=DATE-TIME:20150104T120000
DTSTAMP;VALUE=DATE-TIME:20260425T141603Z
UID:29d64e81675be23474d39b7e14f5246f
CREATED;VALUE=DATE-TIME:20150104T000000Z
LOCATION:Casa museu
ORGANIZER:Casa museu Lluís Domènech i Montaner
COMMENT:Preu: 4 euros
URL:https://www.canetdemar.cat/document.php?id=12601
END:VEVENT
END:VCALENDAR