BEGIN:VCALENDAR
VERSION:2.0
PRODID:-//Plone.org//NONSGML plone.app.event//EN
X-WR-TIMEZONE:Europe/Madrid
BEGIN:VEVENT
SUMMARY:Nit de teatre ... a Barcelona: "Mar i cel"
DTSTART;TZID=Europe/Madrid;VALUE=DATE-TIME:20041222T190000
DTEND;TZID=Europe/Madrid;VALUE=DATE-TIME:20041222T200000
DTSTAMP;VALUE=DATE-TIME:20260422T164900Z
UID:9288c1480152a127a726285e31766cb6
CREATED;VALUE=DATE-TIME:20041222T000000Z
URL:https://www.canetdemar.cat/document.php?id=1259
END:VEVENT
END:VCALENDAR