BEGIN:VCALENDAR
VERSION:2.0
PRODID:-//Plone.org//NONSGML plone.app.event//EN
X-WR-TIMEZONE:Europe/Madrid
BEGIN:VEVENT
SUMMARY:Concert a l'auditori amb la participació especial de Lloll Beltran
DTSTART;TZID=Europe/Madrid;VALUE=DATE-TIME:20150212T164500
DTEND;TZID=Europe/Madrid;VALUE=DATE-TIME:20150212T174500
DTSTAMP;VALUE=DATE-TIME:20260423T172930Z
UID:41a733fc13f3073e8c7a14dcc62dc051
CREATED;VALUE=DATE-TIME:20150212T000000Z
LOCATION:Sortida parada bus Comediants
ORGANIZER:Sàlvia, associació de dones
COMMENT:Preu: Preu: Sòcies i un familiar 16 &euro; cadascú. No socis/es 20 &euro; (inclou l´entrada i el bus)
URL:https://www.canetdemar.cat/document.php?id=12576
END:VEVENT
END:VCALENDAR