BEGIN:VCALENDAR
VERSION:2.0
PRODID:-//Plone.org//NONSGML plone.app.event//EN
X-WR-TIMEZONE:Europe/Madrid
BEGIN:VEVENT
SUMMARY:Vetllada d'art de Nadal
DTSTART;TZID=Europe/Madrid;VALUE=DATE-TIME:20141228T180000
DTEND;TZID=Europe/Madrid;VALUE=DATE-TIME:20141228T190000
DTSTAMP;VALUE=DATE-TIME:20260423T085338Z
UID:23282e30a3cb99e2019b77dbc70dbf7b
CREATED;VALUE=DATE-TIME:20141228T000000Z
LOCATION:Centre Parroquial
URL:https://www.canetdemar.cat/document.php?id=12562
END:VEVENT
END:VCALENDAR