BEGIN:VCALENDAR
VERSION:2.0
PRODID:-//Plone.org//NONSGML plone.app.event//EN
X-WR-TIMEZONE:Europe/Madrid
BEGIN:VEVENT
SUMMARY:Els Pastorets. L'Estel de Natzaret
DTSTART;TZID=Europe/Madrid;VALUE=DATE-TIME:20141226T180000
DTEND;TZID=Europe/Madrid;VALUE=DATE-TIME:20141226T190000
DTSTAMP;VALUE=DATE-TIME:20260421T155739Z
UID:d5796f59a1d142170e4a19694a8f12ef
CREATED;VALUE=DATE-TIME:20141226T000000Z
LOCATION:Centre Parroquial
ORGANIZER:Secció Dramàtica del Centre Parroquial
URL:https://www.canetdemar.cat/document.php?id=12561
END:VEVENT
END:VCALENDAR