BEGIN:VCALENDAR
VERSION:2.0
PRODID:-//Plone.org//NONSGML plone.app.event//EN
X-WR-TIMEZONE:Europe/Madrid
BEGIN:VEVENT
SUMMARY:Taller: No estudiïs més, estudia millor
DTSTART;TZID=Europe/Madrid;VALUE=DATE-TIME:20141222T170000
DTEND;TZID=Europe/Madrid;VALUE=DATE-TIME:20141222T180000
DTSTAMP;VALUE=DATE-TIME:20260420T134811Z
UID:76e9feeadd22d5590d2ecc2bf8df0e99
CREATED;VALUE=DATE-TIME:20141222T000000Z
LOCATION:La Masoveria de Vil&bull;la Flora
ORGANIZER:Àrea de Joventut
COMMENT:Preu: Gratuït
URL:https://www.canetdemar.cat/document.php?id=12550
END:VEVENT
END:VCALENDAR