BEGIN:VCALENDAR
VERSION:2.0
PRODID:-//Plone.org//NONSGML plone.app.event//EN
X-WR-TIMEZONE:Europe/Madrid
BEGIN:VEVENT
SUMMARY:Xocolatada popular
DTSTART;TZID=Europe/Madrid;VALUE=DATE-TIME:20041219T180000
DTEND;TZID=Europe/Madrid;VALUE=DATE-TIME:20041219T190000
DTSTAMP;VALUE=DATE-TIME:20260423T133321Z
UID:36c88f4bf769a0bf33d291e0ced2568e
CREATED;VALUE=DATE-TIME:20041219T000000Z
URL:https://www.canetdemar.cat/document.php?id=1255
END:VEVENT
END:VCALENDAR