BEGIN:VCALENDAR
VERSION:2.0
PRODID:-//Plone.org//NONSGML plone.app.event//EN
X-WR-TIMEZONE:Europe/Madrid
BEGIN:VEVENT
SUMMARY:Les 12 campanades
DTSTART;TZID=Europe/Madrid;VALUE=DATE-TIME:20141231T234500
DTEND;TZID=Europe/Madrid;VALUE=DATE-TIME:20150101T004500
DTSTAMP;VALUE=DATE-TIME:20260423T054032Z
UID:69ac10ef61fb1f3112f2f2a3ba5186dd
CREATED;VALUE=DATE-TIME:20141231T000000Z
LOCATION:plaça Macià
URL:https://www.canetdemar.cat/document.php?id=12527
END:VEVENT
END:VCALENDAR