BEGIN:VCALENDAR
VERSION:2.0
PRODID:-//Plone.org//NONSGML plone.app.event//EN
X-WR-TIMEZONE:Europe/Madrid
BEGIN:VEVENT
SUMMARY:Cantada de Nadales a les residències
DTSTART;TZID=Europe/Madrid;VALUE=DATE-TIME:20141213T000000
DTEND;TZID=Europe/Madrid;VALUE=DATE-TIME:20141213T010000
DTSTAMP;VALUE=DATE-TIME:20260422T202251Z
UID:aa967fcc06b949e295d72944db2196f6
CREATED;VALUE=DATE-TIME:20141213T000000Z
COMMENT:Durada: 13, 20 i 21 de desembre 2014
URL:https://www.canetdemar.cat/document.php?id=12503
END:VEVENT
END:VCALENDAR