BEGIN:VCALENDAR
VERSION:2.0
PRODID:-//Plone.org//NONSGML plone.app.event//EN
X-WR-TIMEZONE:Europe/Madrid
BEGIN:VEVENT
SUMMARY:Fem el pessebre
DTSTART;TZID=Europe/Madrid;VALUE=DATE-TIME:20041219T110000
DTEND;TZID=Europe/Madrid;VALUE=DATE-TIME:20041219T120000
DTSTAMP;VALUE=DATE-TIME:20260422T092239Z
UID:ca230c3e341e9b1cc165e074fc41cf44
CREATED;VALUE=DATE-TIME:20041219T000000Z
URL:https://www.canetdemar.cat/document.php?id=1248
END:VEVENT
END:VCALENDAR