BEGIN:VCALENDAR
VERSION:2.0
PRODID:-//Plone.org//NONSGML plone.app.event//EN
X-WR-TIMEZONE:Europe/Madrid
BEGIN:VEVENT
SUMMARY:Véns al teatre? En el estanque dorado
DTSTART;TZID=Europe/Madrid;VALUE=DATE-TIME:20141217T183000
DTEND;TZID=Europe/Madrid;VALUE=DATE-TIME:20141217T193000
DTSTAMP;VALUE=DATE-TIME:20260423T014059Z
UID:7e6504b42ae7fb7e637cb18571ba15eb
CREATED;VALUE=DATE-TIME:20141217T000000Z
LOCATION:parada bus Comediants
ORGANIZER:Àrea de Cultura
COMMENT:Preu: 27 euros
URL:https://www.canetdemar.cat/document.php?id=12436
END:VEVENT
END:VCALENDAR