BEGIN:VCALENDAR
VERSION:2.0
PRODID:-//Plone.org//NONSGML plone.app.event//EN
X-WR-TIMEZONE:Europe/Madrid
BEGIN:VEVENT
SUMMARY:Pare Noël i cantada de nadales
DTSTART;TZID=Europe/Madrid;VALUE=DATE-TIME:20041218T170000
DTEND;TZID=Europe/Madrid;VALUE=DATE-TIME:20041218T180000
DTSTAMP;VALUE=DATE-TIME:20260424T114027Z
UID:4deea3e4db7c5adc3cfb3a13370fe8e9
CREATED;VALUE=DATE-TIME:20041218T000000Z
URL:https://www.canetdemar.cat/document.php?id=1243
END:VEVENT
END:VCALENDAR