BEGIN:VCALENDAR
VERSION:2.0
PRODID:-//Plone.org//NONSGML plone.app.event//EN
X-WR-TIMEZONE:Europe/Madrid
BEGIN:VEVENT
SUMMARY:Activitats de l'Associació Mares Malabaristes
DTSTART;TZID=Europe/Madrid;VALUE=DATE-TIME:20141101T000000
DTEND;TZID=Europe/Madrid;VALUE=DATE-TIME:20141101T010000
DTSTAMP;VALUE=DATE-TIME:20260421T155924Z
UID:5adae2a805ab04383509fbe0f9fcfd8c
CREATED;VALUE=DATE-TIME:20141101T000000Z
LOCATION:Saüc 35
ORGANIZER:Associació Cultural Mares Malabaristes
URL:https://www.canetdemar.cat/document.php?id=12405
END:VEVENT
END:VCALENDAR