BEGIN:VCALENDAR
VERSION:2.0
PRODID:-//Plone.org//NONSGML plone.app.event//EN
X-WR-TIMEZONE:Europe/Madrid
BEGIN:VEVENT
SUMMARY:L'hora del conte
DTSTART;TZID=Europe/Madrid;VALUE=DATE-TIME:20041218T120000
DTEND;TZID=Europe/Madrid;VALUE=DATE-TIME:20041218T130000
DTSTAMP;VALUE=DATE-TIME:20260419T172542Z
UID:de838eb39f14746295ab9f7fc1e29676
CREATED;VALUE=DATE-TIME:20041218T000000Z
URL:https://www.canetdemar.cat/document.php?id=1237
END:VEVENT
END:VCALENDAR