BEGIN:VCALENDAR
VERSION:2.0
PRODID:-//Plone.org//NONSGML plone.app.event//EN
X-WR-TIMEZONE:Europe/Madrid
BEGIN:VEVENT
SUMMARY:Ball a l'esplai
DTSTART;TZID=Europe/Madrid;VALUE=DATE-TIME:20141130T180000
DTEND;TZID=Europe/Madrid;VALUE=DATE-TIME:20141130T190000
DTSTAMP;VALUE=DATE-TIME:20260425T192626Z
UID:783872c76e92400849f1a3407cf56f81
CREATED;VALUE=DATE-TIME:20141130T000000Z
LOCATION:GGespaicaixa - Canet
ORGANIZER:GGespaicaixa - Canet
URL:https://www.canetdemar.cat/document.php?id=12368
END:VEVENT
END:VCALENDAR