BEGIN:VCALENDAR
VERSION:2.0
PRODID:-//Plone.org//NONSGML plone.app.event//EN
X-WR-TIMEZONE:Europe/Madrid
BEGIN:VEVENT
SUMMARY:Teatre: Don Quan Tanoriu.  30 anys desprès...
DTSTART;TZID=Europe/Madrid;VALUE=DATE-TIME:20141101T223000
DTEND;TZID=Europe/Madrid;VALUE=DATE-TIME:20141101T233000
DTSTAMP;VALUE=DATE-TIME:20260423T120058Z
UID:e9e0a4f5c97afdbe85f9ee747ca0dc13
CREATED;VALUE=DATE-TIME:20141101T000000Z
LOCATION:Envelat de Vil·la Flora
URL:https://www.canetdemar.cat/document.php?id=12360
END:VEVENT
END:VCALENDAR