BEGIN:VCALENDAR
VERSION:2.0
PRODID:-//Plone.org//NONSGML plone.app.event//EN
X-WR-TIMEZONE:Europe/Madrid
BEGIN:VEVENT
SUMMARY:Cinema alternatiu: "Roma"
DTSTART;TZID=Europe/Madrid;VALUE=DATE-TIME:20041217T220000
DTEND;TZID=Europe/Madrid;VALUE=DATE-TIME:20041217T230000
DTSTAMP;VALUE=DATE-TIME:20260424T175749Z
UID:cceafbe04c9d462896b66b7a324836de
CREATED;VALUE=DATE-TIME:20041217T000000Z
URL:https://www.canetdemar.cat/document.php?id=1235
END:VEVENT
END:VCALENDAR