BEGIN:VCALENDAR
VERSION:2.0
PRODID:-//Plone.org//NONSGML plone.app.event//EN
X-WR-TIMEZONE:Europe/Madrid
BEGIN:VEVENT
SUMMARY:Teatre: La signatura 400
DTSTART;TZID=Europe/Madrid;VALUE=DATE-TIME:20141010T213000
DTEND;TZID=Europe/Madrid;VALUE=DATE-TIME:20141010T223000
DTSTAMP;VALUE=DATE-TIME:20260422T034935Z
UID:bb40d20711bf8e0c20c1d7ea45f50037
CREATED;VALUE=DATE-TIME:20141010T000000Z
CATEGORIES:Teatre
LOCATION:Biblioteca
DESCRIPTION:Donem la benvinguda al nou curs
URL:https://www.canetdemar.cat/document.php?id=12329
END:VEVENT
END:VCALENDAR