BEGIN:VCALENDAR
VERSION:2.0
PRODID:-//Plone.org//NONSGML plone.app.event//EN
X-WR-TIMEZONE:Europe/Madrid
BEGIN:VEVENT
SUMMARY:Concerts dels alumnes de l'Escola de Música
DTSTART;TZID=Europe/Madrid;VALUE=DATE-TIME:20041217T180000
DTEND;TZID=Europe/Madrid;VALUE=DATE-TIME:20041217T190000
DTSTAMP;VALUE=DATE-TIME:20260423T065104Z
UID:3cc14c6b2b08037bdcbb886621945cd6
CREATED;VALUE=DATE-TIME:20041217T000000Z
URL:https://www.canetdemar.cat/document.php?id=1232
END:VEVENT
END:VCALENDAR